BEGIN:VCALENDAR
VERSION:2.0
PRODID:-//SLOVENSKE CESTE - ECPv6.15.14//NONSGML v1.0//EN
CALSCALE:GREGORIAN
METHOD:PUBLISH
X-ORIGINAL-URL:https://slovenskeceste.si
X-WR-CALDESC:Events for SLOVENSKE CESTE
REFRESH-INTERVAL;VALUE=DURATION:PT1H
X-Robots-Tag:noindex
X-PUBLISHED-TTL:PT1H
BEGIN:VTIMEZONE
TZID:Europe/Ljubljana
BEGIN:DAYLIGHT
TZOFFSETFROM:+0100
TZOFFSETTO:+0200
TZNAME:CEST
DTSTART:20240331T010000
END:DAYLIGHT
BEGIN:STANDARD
TZOFFSETFROM:+0200
TZOFFSETTO:+0100
TZNAME:CET
DTSTART:20241027T010000
END:STANDARD
BEGIN:DAYLIGHT
TZOFFSETFROM:+0100
TZOFFSETTO:+0200
TZNAME:CEST
DTSTART:20250330T010000
END:DAYLIGHT
BEGIN:STANDARD
TZOFFSETFROM:+0200
TZOFFSETTO:+0100
TZNAME:CET
DTSTART:20251026T010000
END:STANDARD
BEGIN:DAYLIGHT
TZOFFSETFROM:+0100
TZOFFSETTO:+0200
TZNAME:CEST
DTSTART:20260329T010000
END:DAYLIGHT
BEGIN:STANDARD
TZOFFSETFROM:+0200
TZOFFSETTO:+0100
TZNAME:CET
DTSTART:20261025T010000
END:STANDARD
END:VTIMEZONE
BEGIN:VEVENT
DTSTART;TZID=Europe/Ljubljana:20250911T093000
DTEND;TZID=Europe/Ljubljana:20250911T113000
DTSTAMP:20260422T005858
CREATED:20250811T082655Z
LAST-MODIFIED:20250811T082655Z
UID:10074-1757583000-1757590200@slovenskeceste.si
SUMMARY:Zakaj ceste propadajo in kako to preprečiti?
DESCRIPTION:Vabimo: \n\nprojektante\, \nnadzornike\,\nizvajalce\,\npredstavnike upravljavcev cest\,\ndruge\, ki želijo bolje razumeti zakaj prihaja do poškodb vozišnih konstrukcij in kako jih lahko preprečimo.
URL:https://slovenskeceste.si/dogodek/zakaj-ceste-propadajo-in-kako-to-prepreciti/
CATEGORIES:Konference, posveti, seminarji
END:VEVENT
END:VCALENDAR